BEGIN:VCALENDAR
VERSION:2.0
PRODID:-//Ernst-Barlach-Gemeinschaftsschule - ECPv6.15.15//NONSGML v1.0//EN
CALSCALE:GREGORIAN
METHOD:PUBLISH
X-WR-CALNAME:Ernst-Barlach-Gemeinschaftsschule
X-ORIGINAL-URL:https://ebg-wedel.de
X-WR-CALDESC:Veranstaltungen für Ernst-Barlach-Gemeinschaftsschule
REFRESH-INTERVAL;VALUE=DURATION:PT1H
X-Robots-Tag:noindex
X-PUBLISHED-TTL:PT1H
BEGIN:VTIMEZONE
TZID:Europe/Berlin
BEGIN:DAYLIGHT
TZOFFSETFROM:+0100
TZOFFSETTO:+0200
TZNAME:CEST
DTSTART:20250330T010000
END:DAYLIGHT
BEGIN:STANDARD
TZOFFSETFROM:+0200
TZOFFSETTO:+0100
TZNAME:CET
DTSTART:20251026T010000
END:STANDARD
BEGIN:DAYLIGHT
TZOFFSETFROM:+0100
TZOFFSETTO:+0200
TZNAME:CEST
DTSTART:20260329T010000
END:DAYLIGHT
BEGIN:STANDARD
TZOFFSETFROM:+0200
TZOFFSETTO:+0100
TZNAME:CET
DTSTART:20261025T010000
END:STANDARD
BEGIN:DAYLIGHT
TZOFFSETFROM:+0100
TZOFFSETTO:+0200
TZNAME:CEST
DTSTART:20270328T010000
END:DAYLIGHT
BEGIN:STANDARD
TZOFFSETFROM:+0200
TZOFFSETTO:+0100
TZNAME:CET
DTSTART:20271031T010000
END:STANDARD
END:VTIMEZONE
BEGIN:VEVENT
DTSTART;VALUE=DATE:20260609
DTEND;VALUE=DATE:20260610
DTSTAMP:20260423T201009
CREATED:20250831T074806Z
LAST-MODIFIED:20250831T074806Z
UID:102248-1780963200-1781049599@ebg-wedel.de
SUMMARY:Letzter Schultag für Schülerinnen und Schüler ohne mündliche ESA- Prüfung oder MSA-Prüfung
DESCRIPTION:
URL:https://ebg-wedel.de/ebgtermin/letzter-schultag-fuer-schuelerinnen-und-schueler-ohne-muendliche-esa-pruefung-oder-msa-pruefung/
END:VEVENT
BEGIN:VEVENT
DTSTART;VALUE=DATE:20260616
DTEND;VALUE=DATE:20260618
DTSTAMP:20260423T201009
CREATED:20250831T074840Z
LAST-MODIFIED:20250831T074840Z
UID:102250-1781568000-1781740799@ebg-wedel.de
SUMMARY:Mündliche Prüfungen
DESCRIPTION:
URL:https://ebg-wedel.de/ebgtermin/muendliche-pruefungen/
END:VEVENT
BEGIN:VEVENT
DTSTART;VALUE=DATE:20260618
DTEND;VALUE=DATE:20260619
DTSTAMP:20260423T201009
CREATED:20250831T074903Z
LAST-MODIFIED:20250831T074903Z
UID:102252-1781740800-1781827199@ebg-wedel.de
SUMMARY:Vocatium Hamburg Süd Jg. 9
DESCRIPTION:
URL:https://ebg-wedel.de/ebgtermin/vocatium-hamburg-sued-jg-9/
END:VEVENT
BEGIN:VEVENT
DTSTART;VALUE=DATE:20260619
DTEND;VALUE=DATE:20260620
DTSTAMP:20260423T201009
CREATED:20250831T074932Z
LAST-MODIFIED:20250831T074932Z
UID:102254-1781827200-1781913599@ebg-wedel.de
SUMMARY:Entlassungsfeier MSA
DESCRIPTION:
URL:https://ebg-wedel.de/ebgtermin/entlassungsfeier-msa-3/
END:VEVENT
BEGIN:VEVENT
DTSTART;VALUE=DATE:20260625
DTEND;VALUE=DATE:20260626
DTSTAMP:20260423T201009
CREATED:20250831T075020Z
LAST-MODIFIED:20250831T075020Z
UID:102256-1782345600-1782431999@ebg-wedel.de
SUMMARY:Zeugniskonferenzen
DESCRIPTION:
URL:https://ebg-wedel.de/ebgtermin/zeugniskonferenzen-11/
END:VEVENT
BEGIN:VEVENT
DTSTART;VALUE=DATE:20260626
DTEND;VALUE=DATE:20260627
DTSTAMP:20260423T201009
CREATED:20250831T075042Z
LAST-MODIFIED:20250831T075042Z
UID:102258-1782432000-1782518399@ebg-wedel.de
SUMMARY:Entlassungsfeier ESA
DESCRIPTION:
URL:https://ebg-wedel.de/ebgtermin/entlassungsfeier-esa-3/
END:VEVENT
BEGIN:VEVENT
DTSTART;VALUE=DATE:20260629
DTEND;VALUE=DATE:20260630
DTSTAMP:20260423T201009
CREATED:20250831T075204Z
LAST-MODIFIED:20250831T075204Z
UID:102262-1782691200-1782777599@ebg-wedel.de
SUMMARY:Zeugniskonferenzen
DESCRIPTION:
URL:https://ebg-wedel.de/ebgtermin/zeugniskonferenzen-12/
END:VEVENT
END:VCALENDAR