BEGIN:VCALENDAR
VERSION:2.0
PRODID:-//Ernst-Barlach-Gemeinschaftsschule - ECPv6.15.15//NONSGML v1.0//EN
CALSCALE:GREGORIAN
METHOD:PUBLISH
X-ORIGINAL-URL:https://ebg-wedel.de
X-WR-CALDESC:Veranstaltungen für Ernst-Barlach-Gemeinschaftsschule
REFRESH-INTERVAL;VALUE=DURATION:PT1H
X-Robots-Tag:noindex
X-PUBLISHED-TTL:PT1H
BEGIN:VTIMEZONE
TZID:Europe/Berlin
BEGIN:DAYLIGHT
TZOFFSETFROM:+0100
TZOFFSETTO:+0200
TZNAME:CEST
DTSTART:20250330T010000
END:DAYLIGHT
BEGIN:STANDARD
TZOFFSETFROM:+0200
TZOFFSETTO:+0100
TZNAME:CET
DTSTART:20251026T010000
END:STANDARD
BEGIN:DAYLIGHT
TZOFFSETFROM:+0100
TZOFFSETTO:+0200
TZNAME:CEST
DTSTART:20260329T010000
END:DAYLIGHT
BEGIN:STANDARD
TZOFFSETFROM:+0200
TZOFFSETTO:+0100
TZNAME:CET
DTSTART:20261025T010000
END:STANDARD
BEGIN:DAYLIGHT
TZOFFSETFROM:+0100
TZOFFSETTO:+0200
TZNAME:CEST
DTSTART:20270328T010000
END:DAYLIGHT
BEGIN:STANDARD
TZOFFSETFROM:+0200
TZOFFSETTO:+0100
TZNAME:CET
DTSTART:20271031T010000
END:STANDARD
END:VTIMEZONE
BEGIN:VEVENT
DTSTART;VALUE=DATE:20260116
DTEND;VALUE=DATE:20260117
DTSTAMP:20260423T213347
CREATED:20250831T073201Z
LAST-MODIFIED:20250831T073201Z
UID:102188-1768521600-1768607999@ebg-wedel.de
SUMMARY:Abgabe der Projektmappen und des Produkts Klassenstufe 9
DESCRIPTION:
URL:https://ebg-wedel.de/ebgtermin/abgabe-der-projektmappen-und-des-produkts-klassenstufe-9-3/
END:VEVENT
BEGIN:VEVENT
DTSTART;VALUE=DATE:20260122
DTEND;VALUE=DATE:20260123
DTSTAMP:20260423T213347
CREATED:20250831T073230Z
LAST-MODIFIED:20250831T073230Z
UID:102190-1769040000-1769126399@ebg-wedel.de
SUMMARY:Zeugniskonferenzen
DESCRIPTION:
URL:https://ebg-wedel.de/ebgtermin/zeugniskonferenzen-9/
END:VEVENT
BEGIN:VEVENT
DTSTART;VALUE=DATE:20260126
DTEND;VALUE=DATE:20260127
DTSTAMP:20260423T213347
CREATED:20250831T073253Z
LAST-MODIFIED:20250831T073253Z
UID:102192-1769385600-1769471999@ebg-wedel.de
SUMMARY:Zeugniskonferenzen
DESCRIPTION:
URL:https://ebg-wedel.de/ebgtermin/zeugniskonferenzen-10/
END:VEVENT
BEGIN:VEVENT
DTSTART;VALUE=DATE:20260130
DTEND;VALUE=DATE:20260131
DTSTAMP:20260423T213347
CREATED:20250831T073320Z
LAST-MODIFIED:20250831T073320Z
UID:102194-1769731200-1769817599@ebg-wedel.de
SUMMARY:Zeugnisausgabe
DESCRIPTION:
URL:https://ebg-wedel.de/ebgtermin/zeugnisausgabe-3/
END:VEVENT
END:VCALENDAR