BEGIN:VCALENDAR
VERSION:2.0
PRODID:-//Ernst-Barlach-Gemeinschaftsschule - ECPv6.15.15//NONSGML v1.0//EN
CALSCALE:GREGORIAN
METHOD:PUBLISH
X-WR-CALNAME:Ernst-Barlach-Gemeinschaftsschule
X-ORIGINAL-URL:https://ebg-wedel.de
X-WR-CALDESC:Veranstaltungen für Ernst-Barlach-Gemeinschaftsschule
REFRESH-INTERVAL;VALUE=DURATION:PT1H
X-Robots-Tag:noindex
X-PUBLISHED-TTL:PT1H
BEGIN:VTIMEZONE
TZID:Europe/Berlin
BEGIN:DAYLIGHT
TZOFFSETFROM:+0100
TZOFFSETTO:+0200
TZNAME:CEST
DTSTART:20240331T010000
END:DAYLIGHT
BEGIN:STANDARD
TZOFFSETFROM:+0200
TZOFFSETTO:+0100
TZNAME:CET
DTSTART:20241027T010000
END:STANDARD
BEGIN:DAYLIGHT
TZOFFSETFROM:+0100
TZOFFSETTO:+0200
TZNAME:CEST
DTSTART:20250330T010000
END:DAYLIGHT
BEGIN:STANDARD
TZOFFSETFROM:+0200
TZOFFSETTO:+0100
TZNAME:CET
DTSTART:20251026T010000
END:STANDARD
BEGIN:DAYLIGHT
TZOFFSETFROM:+0100
TZOFFSETTO:+0200
TZNAME:CEST
DTSTART:20260329T010000
END:DAYLIGHT
BEGIN:STANDARD
TZOFFSETFROM:+0200
TZOFFSETTO:+0100
TZNAME:CET
DTSTART:20261025T010000
END:STANDARD
END:VTIMEZONE
BEGIN:VEVENT
DTSTART;VALUE=DATE:20250909
DTEND;VALUE=DATE:20250910
DTSTAMP:20260425T145237
CREATED:20250831T071656Z
LAST-MODIFIED:20250831T071656Z
UID:102126-1757376000-1757462399@ebg-wedel.de
SUMMARY:Distanzlerntag Jahrgänge 6/7/8/9/10
DESCRIPTION:
URL:https://ebg-wedel.de/ebgtermin/distanzlerntag-jahrgaenge-6-7-8-9-10-3/
END:VEVENT
BEGIN:VEVENT
DTSTART;VALUE=DATE:20250909
DTEND;VALUE=DATE:20250910
DTSTAMP:20260425T145237
CREATED:20250831T071742Z
LAST-MODIFIED:20250831T071742Z
UID:102128-1757376000-1757462399@ebg-wedel.de
SUMMARY:Einschulung der 5. Klassen
DESCRIPTION:
URL:https://ebg-wedel.de/ebgtermin/einschulung-der-5-klassen-3/
END:VEVENT
BEGIN:VEVENT
DTSTART;VALUE=DATE:20250910
DTEND;VALUE=DATE:20250911
DTSTAMP:20260425T145237
CREATED:20250831T071808Z
LAST-MODIFIED:20250831T071808Z
UID:102130-1757462400-1757548799@ebg-wedel.de
SUMMARY:Elternabend Flex 8\, 9F1 und 9F2
DESCRIPTION:
URL:https://ebg-wedel.de/ebgtermin/elternabend-flex-8-9f1-und-9f2/
END:VEVENT
BEGIN:VEVENT
DTSTART;VALUE=DATE:20250911
DTEND;VALUE=DATE:20250912
DTSTAMP:20260425T145237
CREATED:20250831T071827Z
LAST-MODIFIED:20250831T071827Z
UID:102132-1757548800-1757635199@ebg-wedel.de
SUMMARY:Fachkonferenzen Sport und WiPo
DESCRIPTION:
URL:https://ebg-wedel.de/ebgtermin/fachkonferenzen-sport-und-wipo/
END:VEVENT
BEGIN:VEVENT
DTSTART;VALUE=DATE:20250915
DTEND;VALUE=DATE:20250920
DTSTAMP:20260425T145237
CREATED:20250831T071935Z
LAST-MODIFIED:20250831T071935Z
UID:102134-1757894400-1758326399@ebg-wedel.de
SUMMARY:Klassenfahrt 6B
DESCRIPTION:
URL:https://ebg-wedel.de/ebgtermin/klassenfahrt-6b/
END:VEVENT
BEGIN:VEVENT
DTSTART;VALUE=DATE:20250915
DTEND;VALUE=DATE:20250921
DTSTAMP:20260425T145237
CREATED:20250831T072006Z
LAST-MODIFIED:20250831T072016Z
UID:102136-1757894400-1758412799@ebg-wedel.de
SUMMARY:Klassenfahrt 9A/9B/9C/9D/9F.2
DESCRIPTION:
URL:https://ebg-wedel.de/ebgtermin/klassenfahrt-9a-9b-9c-9d-9f-2/
END:VEVENT
BEGIN:VEVENT
DTSTART;VALUE=DATE:20250915
DTEND;VALUE=DATE:20250927
DTSTAMP:20260425T145237
CREATED:20250831T072057Z
LAST-MODIFIED:20250831T072057Z
UID:102139-1757894400-1758931199@ebg-wedel.de
SUMMARY:Betriebspraktikum Jahrgangsstufe 8 und 9F1
DESCRIPTION:
URL:https://ebg-wedel.de/ebgtermin/betriebspraktikum-jahrgangsstufe-8-und-9f1/
END:VEVENT
BEGIN:VEVENT
DTSTART;VALUE=DATE:20250923
DTEND;VALUE=DATE:20250924
DTSTAMP:20260425T145237
CREATED:20250831T072123Z
LAST-MODIFIED:20250831T072123Z
UID:102141-1758585600-1758671999@ebg-wedel.de
SUMMARY:Elternabend Klassenstufe 5
DESCRIPTION:
URL:https://ebg-wedel.de/ebgtermin/elternabend-klassenstufe-5-3/
END:VEVENT
BEGIN:VEVENT
DTSTART;VALUE=DATE:20250923
DTEND;VALUE=DATE:20250924
DTSTAMP:20260425T145237
CREATED:20250831T072146Z
LAST-MODIFIED:20250831T072146Z
UID:102143-1758585600-1758671999@ebg-wedel.de
SUMMARY:Elternabend FoeZ (9. Jahrgang)
DESCRIPTION:
URL:https://ebg-wedel.de/ebgtermin/elternabend-foez-9-jahrgang/
END:VEVENT
BEGIN:VEVENT
DTSTART;VALUE=DATE:20250924
DTEND;VALUE=DATE:20250925
DTSTAMP:20260425T145237
CREATED:20250831T072208Z
LAST-MODIFIED:20250831T072208Z
UID:102145-1758672000-1758758399@ebg-wedel.de
SUMMARY:Elternabend Klassenstufe 7
DESCRIPTION:
URL:https://ebg-wedel.de/ebgtermin/elternabend-klassenstufe-7-3/
END:VEVENT
BEGIN:VEVENT
DTSTART;VALUE=DATE:20250925
DTEND;VALUE=DATE:20250926
DTSTAMP:20260425T145237
CREATED:20250831T072231Z
LAST-MODIFIED:20250831T072231Z
UID:102147-1758758400-1758844799@ebg-wedel.de
SUMMARY:Fachkonferenzen Englisch und Kunst
DESCRIPTION:
URL:https://ebg-wedel.de/ebgtermin/fachkonferenzen-englisch-und-kunst/
END:VEVENT
BEGIN:VEVENT
DTSTART;VALUE=DATE:20250929
DTEND;VALUE=DATE:20251003
DTSTAMP:20260425T145237
CREATED:20250831T072303Z
LAST-MODIFIED:20250831T072303Z
UID:102149-1759104000-1759449599@ebg-wedel.de
SUMMARY:Klassenfahrt 6D
DESCRIPTION:
URL:https://ebg-wedel.de/ebgtermin/klassenfahrt-6d-2/
END:VEVENT
BEGIN:VEVENT
DTSTART;VALUE=DATE:20250930
DTEND;VALUE=DATE:20251001
DTSTAMP:20260425T145237
CREATED:20250831T072323Z
LAST-MODIFIED:20250831T072323Z
UID:102151-1759190400-1759276799@ebg-wedel.de
SUMMARY:Elternabend Klassenstufe 9
DESCRIPTION:
URL:https://ebg-wedel.de/ebgtermin/elternabend-klassenstufe-9-3/
END:VEVENT
END:VCALENDAR