BEGIN:VCALENDAR
VERSION:2.0
PRODID:-//Ernst-Barlach-Gemeinschaftsschule - ECPv6.15.15//NONSGML v1.0//EN
CALSCALE:GREGORIAN
METHOD:PUBLISH
X-WR-CALNAME:Ernst-Barlach-Gemeinschaftsschule
X-ORIGINAL-URL:https://ebg-wedel.de
X-WR-CALDESC:Veranstaltungen für Ernst-Barlach-Gemeinschaftsschule
REFRESH-INTERVAL;VALUE=DURATION:PT1H
X-Robots-Tag:noindex
X-PUBLISHED-TTL:PT1H
BEGIN:VTIMEZONE
TZID:Europe/Berlin
BEGIN:DAYLIGHT
TZOFFSETFROM:+0100
TZOFFSETTO:+0200
TZNAME:CEST
DTSTART:20240331T010000
END:DAYLIGHT
BEGIN:STANDARD
TZOFFSETFROM:+0200
TZOFFSETTO:+0100
TZNAME:CET
DTSTART:20241027T010000
END:STANDARD
BEGIN:DAYLIGHT
TZOFFSETFROM:+0100
TZOFFSETTO:+0200
TZNAME:CEST
DTSTART:20250330T010000
END:DAYLIGHT
BEGIN:STANDARD
TZOFFSETFROM:+0200
TZOFFSETTO:+0100
TZNAME:CET
DTSTART:20251026T010000
END:STANDARD
BEGIN:DAYLIGHT
TZOFFSETFROM:+0100
TZOFFSETTO:+0200
TZNAME:CEST
DTSTART:20260329T010000
END:DAYLIGHT
BEGIN:STANDARD
TZOFFSETFROM:+0200
TZOFFSETTO:+0100
TZNAME:CET
DTSTART:20261025T010000
END:STANDARD
END:VTIMEZONE
BEGIN:VEVENT
DTSTART;VALUE=DATE:20250704
DTEND;VALUE=DATE:20250705
DTSTAMP:20260425T174313
CREATED:20240715T074009Z
LAST-MODIFIED:20240715T074009Z
UID:101739-1751587200-1751673599@ebg-wedel.de
SUMMARY:Entlassungsfeier ESA
DESCRIPTION:
URL:https://ebg-wedel.de/ebgtermin/entlassungsfeier-esa-2/
END:VEVENT
BEGIN:VEVENT
DTSTART;VALUE=DATE:20250717
DTEND;VALUE=DATE:20250718
DTSTAMP:20260425T174313
CREATED:20240715T074038Z
LAST-MODIFIED:20240715T074038Z
UID:101741-1752710400-1752796799@ebg-wedel.de
SUMMARY:Zeugniskonferenzen
DESCRIPTION:
URL:https://ebg-wedel.de/ebgtermin/zeugniskonferenzen-7/
END:VEVENT
BEGIN:VEVENT
DTSTART;VALUE=DATE:20250721
DTEND;VALUE=DATE:20250722
DTSTAMP:20260425T174313
CREATED:20240715T074102Z
LAST-MODIFIED:20240715T074102Z
UID:101743-1753056000-1753142399@ebg-wedel.de
SUMMARY:Zeugniskonferenzen
DESCRIPTION:
URL:https://ebg-wedel.de/ebgtermin/zeugniskonferenzen-8/
END:VEVENT
BEGIN:VEVENT
DTSTART;VALUE=DATE:20250725
DTEND;VALUE=DATE:20250726
DTSTAMP:20260425T174313
CREATED:20240715T074126Z
LAST-MODIFIED:20240715T074249Z
UID:101745-1753401600-1753487999@ebg-wedel.de
SUMMARY:Zeugnisausgabe
DESCRIPTION:
URL:https://ebg-wedel.de/ebgtermin/zeugnisausgabe-2/
END:VEVENT
END:VCALENDAR