BEGIN:VCALENDAR
VERSION:2.0
PRODID:-//Ernst-Barlach-Gemeinschaftsschule - ECPv6.15.15//NONSGML v1.0//EN
CALSCALE:GREGORIAN
METHOD:PUBLISH
X-WR-CALNAME:Ernst-Barlach-Gemeinschaftsschule
X-ORIGINAL-URL:https://ebg-wedel.de
X-WR-CALDESC:Veranstaltungen für Ernst-Barlach-Gemeinschaftsschule
REFRESH-INTERVAL;VALUE=DURATION:PT1H
X-Robots-Tag:noindex
X-PUBLISHED-TTL:PT1H
BEGIN:VTIMEZONE
TZID:Europe/Berlin
BEGIN:DAYLIGHT
TZOFFSETFROM:+0100
TZOFFSETTO:+0200
TZNAME:CEST
DTSTART:20240331T010000
END:DAYLIGHT
BEGIN:STANDARD
TZOFFSETFROM:+0200
TZOFFSETTO:+0100
TZNAME:CET
DTSTART:20241027T010000
END:STANDARD
BEGIN:DAYLIGHT
TZOFFSETFROM:+0100
TZOFFSETTO:+0200
TZNAME:CEST
DTSTART:20250330T010000
END:DAYLIGHT
BEGIN:STANDARD
TZOFFSETFROM:+0200
TZOFFSETTO:+0100
TZNAME:CET
DTSTART:20251026T010000
END:STANDARD
BEGIN:DAYLIGHT
TZOFFSETFROM:+0100
TZOFFSETTO:+0200
TZNAME:CEST
DTSTART:20260329T010000
END:DAYLIGHT
BEGIN:STANDARD
TZOFFSETFROM:+0200
TZOFFSETTO:+0100
TZNAME:CET
DTSTART:20261025T010000
END:STANDARD
END:VTIMEZONE
BEGIN:VEVENT
DTSTART;VALUE=DATE:20250501
DTEND;VALUE=DATE:20250502
DTSTAMP:20260425T203858
CREATED:20240715T073128Z
LAST-MODIFIED:20240715T073128Z
UID:101709-1746057600-1746143999@ebg-wedel.de
SUMMARY:Feiertag (Tag der Arbeit)
DESCRIPTION:
URL:https://ebg-wedel.de/ebgtermin/feiertag-tag-der-arbeit/
END:VEVENT
BEGIN:VEVENT
DTSTART;VALUE=DATE:20250502
DTEND;VALUE=DATE:20250503
DTSTAMP:20260425T203858
CREATED:20240715T073149Z
LAST-MODIFIED:20240715T073149Z
UID:101711-1746144000-1746230399@ebg-wedel.de
SUMMARY:Beweglicher Ferientag
DESCRIPTION:
URL:https://ebg-wedel.de/ebgtermin/beweglicher-ferientag-3/
END:VEVENT
BEGIN:VEVENT
DTSTART;VALUE=DATE:20250506
DTEND;VALUE=DATE:20250507
DTSTAMP:20260425T203858
CREATED:20240715T073221Z
LAST-MODIFIED:20240715T073221Z
UID:101713-1746489600-1746575999@ebg-wedel.de
SUMMARY:ESA Englisch / MSA Deutsch
DESCRIPTION:
URL:https://ebg-wedel.de/ebgtermin/esa-englisch-msa-deutsch-2/
END:VEVENT
BEGIN:VEVENT
DTSTART;VALUE=DATE:20250508
DTEND;VALUE=DATE:20250509
DTSTAMP:20260425T203858
CREATED:20240715T073243Z
LAST-MODIFIED:20240715T073243Z
UID:101715-1746662400-1746748799@ebg-wedel.de
SUMMARY:ESA Deutsch / MSA Mathematik
DESCRIPTION:
URL:https://ebg-wedel.de/ebgtermin/esa-deutsch-msa-mathematik-2/
END:VEVENT
BEGIN:VEVENT
DTSTART;VALUE=DATE:20250508
DTEND;VALUE=DATE:20250509
DTSTAMP:20260425T203858
CREATED:20240826T103427Z
LAST-MODIFIED:20240826T103437Z
UID:101836-1746662400-1746748799@ebg-wedel.de
SUMMARY:Schulkonferenz
DESCRIPTION:
URL:https://ebg-wedel.de/ebgtermin/schulkonferenz-4/
END:VEVENT
BEGIN:VEVENT
DTSTART;VALUE=DATE:20250513
DTEND;VALUE=DATE:20250514
DTSTAMP:20260425T203858
CREATED:20240715T073305Z
LAST-MODIFIED:20240715T073305Z
UID:101717-1747094400-1747180799@ebg-wedel.de
SUMMARY:ESA Mathematik / MSA Englisch
DESCRIPTION:
URL:https://ebg-wedel.de/ebgtermin/esa-mathematik-msa-englisch-2/
END:VEVENT
BEGIN:VEVENT
DTSTART;VALUE=DATE:20250520
DTEND;VALUE=DATE:20250523
DTSTAMP:20260425T203858
CREATED:20240715T073617Z
LAST-MODIFIED:20240715T073617Z
UID:101725-1747699200-1747958399@ebg-wedel.de
SUMMARY:Sprachpraktische Prüfung Englisch MSA
DESCRIPTION:
URL:https://ebg-wedel.de/ebgtermin/sprachpraktische-pruefung-englisch-msa-2/
END:VEVENT
BEGIN:VEVENT
DTSTART;VALUE=DATE:20250528
DTEND;VALUE=DATE:20250529
DTSTAMP:20260425T203858
CREATED:20240715T073510Z
LAST-MODIFIED:20240715T073510Z
UID:101721-1748390400-1748476799@ebg-wedel.de
SUMMARY:Beweglicher Ferientag
DESCRIPTION:
URL:https://ebg-wedel.de/ebgtermin/beweglicher-ferientag-4/
END:VEVENT
BEGIN:VEVENT
DTSTART;VALUE=DATE:20250529
DTEND;VALUE=DATE:20250530
DTSTAMP:20260425T203858
CREATED:20240715T073420Z
LAST-MODIFIED:20240715T073420Z
UID:101719-1748476800-1748563199@ebg-wedel.de
SUMMARY:Ferientag (Himmelfahrt)
DESCRIPTION:
URL:https://ebg-wedel.de/ebgtermin/ferientag-himmelfahrt-2/
END:VEVENT
BEGIN:VEVENT
DTSTART;VALUE=DATE:20250530
DTEND;VALUE=DATE:20250531
DTSTAMP:20260425T203858
CREATED:20240715T073540Z
LAST-MODIFIED:20240715T073540Z
UID:101723-1748563200-1748649599@ebg-wedel.de
SUMMARY:Ferientag
DESCRIPTION:
URL:https://ebg-wedel.de/ebgtermin/ferientag/
END:VEVENT
END:VCALENDAR