BEGIN:VCALENDAR
VERSION:2.0
PRODID:-//Ernst-Barlach-Gemeinschaftsschule - ECPv6.15.15//NONSGML v1.0//EN
CALSCALE:GREGORIAN
METHOD:PUBLISH
X-ORIGINAL-URL:https://ebg-wedel.de
X-WR-CALDESC:Veranstaltungen für Ernst-Barlach-Gemeinschaftsschule
REFRESH-INTERVAL;VALUE=DURATION:PT1H
X-Robots-Tag:noindex
X-PUBLISHED-TTL:PT1H
BEGIN:VTIMEZONE
TZID:Europe/Berlin
BEGIN:DAYLIGHT
TZOFFSETFROM:+0100
TZOFFSETTO:+0200
TZNAME:CEST
DTSTART:20230326T010000
END:DAYLIGHT
BEGIN:STANDARD
TZOFFSETFROM:+0200
TZOFFSETTO:+0100
TZNAME:CET
DTSTART:20231029T010000
END:STANDARD
BEGIN:DAYLIGHT
TZOFFSETFROM:+0100
TZOFFSETTO:+0200
TZNAME:CEST
DTSTART:20240331T010000
END:DAYLIGHT
BEGIN:STANDARD
TZOFFSETFROM:+0200
TZOFFSETTO:+0100
TZNAME:CET
DTSTART:20241027T010000
END:STANDARD
BEGIN:DAYLIGHT
TZOFFSETFROM:+0100
TZOFFSETTO:+0200
TZNAME:CEST
DTSTART:20250330T010000
END:DAYLIGHT
BEGIN:STANDARD
TZOFFSETFROM:+0200
TZOFFSETTO:+0100
TZNAME:CET
DTSTART:20251026T010000
END:STANDARD
END:VTIMEZONE
BEGIN:VEVENT
DTSTART;VALUE=DATE:20241205
DTEND;VALUE=DATE:20241206
DTSTAMP:20260426T043257
CREATED:20240716T123359Z
LAST-MODIFIED:20240716T123359Z
UID:101753-1733356800-1733443199@ebg-wedel.de
SUMMARY:SET
DESCRIPTION:
URL:https://ebg-wedel.de/ebgtermin/set/
END:VEVENT
BEGIN:VEVENT
DTSTART;VALUE=DATE:20241206
DTEND;VALUE=DATE:20241207
DTSTAMP:20260426T043257
CREATED:20240826T101202Z
LAST-MODIFIED:20240826T101202Z
UID:101820-1733443200-1733529599@ebg-wedel.de
SUMMARY:3. Projekttag für die Projektarbeit Klassenstufe 9
DESCRIPTION:
URL:https://ebg-wedel.de/ebgtermin/3-projekttag-fuer-die-projektarbeit-klassenstufe-9-2/
END:VEVENT
BEGIN:VEVENT
DTSTART;VALUE=DATE:20241218
DTEND;VALUE=DATE:20241219
DTSTAMP:20260426T043257
CREATED:20240715T072635Z
LAST-MODIFIED:20240715T072635Z
UID:101695-1734480000-1734566399@ebg-wedel.de
SUMMARY:Letzter Schultag vor den Ferien - Unterrichtsschluss 11:20 Uhr
DESCRIPTION:
URL:https://ebg-wedel.de/ebgtermin/letzter-schultag-vor-den-ferien-unterrichtsschluss-1120-uhr/
END:VEVENT
END:VCALENDAR