BEGIN:VCALENDAR
VERSION:2.0
PRODID:-//Ernst-Barlach-Gemeinschaftsschule - ECPv6.15.15//NONSGML v1.0//EN
CALSCALE:GREGORIAN
METHOD:PUBLISH
X-WR-CALNAME:Ernst-Barlach-Gemeinschaftsschule
X-ORIGINAL-URL:https://ebg-wedel.de
X-WR-CALDESC:Veranstaltungen für Ernst-Barlach-Gemeinschaftsschule
REFRESH-INTERVAL;VALUE=DURATION:PT1H
X-Robots-Tag:noindex
X-PUBLISHED-TTL:PT1H
BEGIN:VTIMEZONE
TZID:Europe/Berlin
BEGIN:DAYLIGHT
TZOFFSETFROM:+0100
TZOFFSETTO:+0200
TZNAME:CEST
DTSTART:20230326T010000
END:DAYLIGHT
BEGIN:STANDARD
TZOFFSETFROM:+0200
TZOFFSETTO:+0100
TZNAME:CET
DTSTART:20231029T010000
END:STANDARD
BEGIN:DAYLIGHT
TZOFFSETFROM:+0100
TZOFFSETTO:+0200
TZNAME:CEST
DTSTART:20240331T010000
END:DAYLIGHT
BEGIN:STANDARD
TZOFFSETFROM:+0200
TZOFFSETTO:+0100
TZNAME:CET
DTSTART:20241027T010000
END:STANDARD
BEGIN:DAYLIGHT
TZOFFSETFROM:+0100
TZOFFSETTO:+0200
TZNAME:CEST
DTSTART:20250330T010000
END:DAYLIGHT
BEGIN:STANDARD
TZOFFSETFROM:+0200
TZOFFSETTO:+0100
TZNAME:CET
DTSTART:20251026T010000
END:STANDARD
END:VTIMEZONE
BEGIN:VEVENT
DTSTART;VALUE=DATE:20241107
DTEND;VALUE=DATE:20241108
DTSTAMP:20260426T061018
CREATED:20240716T123305Z
LAST-MODIFIED:20240716T123305Z
UID:101749-1730937600-1731023999@ebg-wedel.de
SUMMARY:Kollegiale Fallberatung Beratungsteam
DESCRIPTION:
URL:https://ebg-wedel.de/ebgtermin/kollegiale-fallberatung-beratungsteam/
END:VEVENT
BEGIN:VEVENT
DTSTART;VALUE=DATE:20241107
DTEND;VALUE=DATE:20241108
DTSTAMP:20260426T061018
CREATED:20240826T100121Z
LAST-MODIFIED:20240826T100121Z
UID:101814-1730937600-1731023999@ebg-wedel.de
SUMMARY:Fachkonferenzen Religion/Philosophie\, Technik\, Textil und Musik
DESCRIPTION:
URL:https://ebg-wedel.de/ebgtermin/fachkonferenzen-religion-philosophie-technik-textil-und-musik/
END:VEVENT
BEGIN:VEVENT
DTSTART;TZID=Europe/Berlin:20241111T080000
DTEND;TZID=Europe/Berlin:20241111T170000
DTSTAMP:20260426T061018
CREATED:20240716T123336Z
LAST-MODIFIED:20240716T123336Z
UID:101751-1731312000-1731344400@ebg-wedel.de
SUMMARY:Stärken Parcours Jg. 7
DESCRIPTION:
URL:https://ebg-wedel.de/ebgtermin/staerken-parcours-jg-7/
END:VEVENT
BEGIN:VEVENT
DTSTART;VALUE=DATE:20241113
DTEND;VALUE=DATE:20241114
DTSTAMP:20260426T061018
CREATED:20240826T101056Z
LAST-MODIFIED:20240826T101056Z
UID:101816-1731456000-1731542399@ebg-wedel.de
SUMMARY:2. Projekttag für die Projektarbeit Klassenstufe 9
DESCRIPTION:
URL:https://ebg-wedel.de/ebgtermin/2-projekttag-fuer-die-projektarbeit-klassenstufe-9-2/
END:VEVENT
BEGIN:VEVENT
DTSTART;VALUE=DATE:20241114
DTEND;VALUE=DATE:20241115
DTSTAMP:20260426T061018
CREATED:20240826T103248Z
LAST-MODIFIED:20240826T103248Z
UID:101830-1731542400-1731628799@ebg-wedel.de
SUMMARY:Pädagogische Konferenzen 5. Jahrgang
DESCRIPTION:
URL:https://ebg-wedel.de/ebgtermin/paedagogische-konferenzen-5-jahrgang/
END:VEVENT
BEGIN:VEVENT
DTSTART;VALUE=DATE:20241114
DTEND;VALUE=DATE:20241115
DTSTAMP:20260426T061018
CREATED:20240826T103305Z
LAST-MODIFIED:20240826T103305Z
UID:101832-1731542400-1731628799@ebg-wedel.de
SUMMARY:Schulkonferenz
DESCRIPTION:
URL:https://ebg-wedel.de/ebgtermin/schulkonferenz-3/
END:VEVENT
BEGIN:VEVENT
DTSTART;VALUE=DATE:20241121
DTEND;VALUE=DATE:20241122
DTSTAMP:20260426T061018
CREATED:20240715T072559Z
LAST-MODIFIED:20240715T072559Z
UID:101693-1732147200-1732233599@ebg-wedel.de
SUMMARY:Beratungstag an der EBG
DESCRIPTION:
URL:https://ebg-wedel.de/ebgtermin/beratungstag-an-der-ebg-2/
END:VEVENT
BEGIN:VEVENT
DTSTART;VALUE=DATE:20241128
DTEND;VALUE=DATE:20241129
DTSTAMP:20260426T061018
CREATED:20240826T101127Z
LAST-MODIFIED:20240826T101127Z
UID:101818-1732752000-1732838399@ebg-wedel.de
SUMMARY:Fachkonferenzen Englisch
DESCRIPTION:
URL:https://ebg-wedel.de/ebgtermin/fachkonferenzen-englisch/
END:VEVENT
END:VCALENDAR